BEGIN:VCALENDAR
VERSION:2.0
PRODID:-//Club des Entrepreneurs de Jouy-en-Josas - ECPv6.15.20//NONSGML v1.0//EN
CALSCALE:GREGORIAN
METHOD:PUBLISH
X-ORIGINAL-URL:https://club-entrepreneurs-jouy.fr
X-WR-CALDESC:Évènements pour Club des Entrepreneurs de Jouy-en-Josas
REFRESH-INTERVAL;VALUE=DURATION:PT1H
X-Robots-Tag:noindex
X-PUBLISHED-TTL:PT1H
BEGIN:VTIMEZONE
TZID:Europe/Paris
BEGIN:DAYLIGHT
TZOFFSETFROM:+0100
TZOFFSETTO:+0200
TZNAME:CEST
DTSTART:20240331T010000
END:DAYLIGHT
BEGIN:STANDARD
TZOFFSETFROM:+0200
TZOFFSETTO:+0100
TZNAME:CET
DTSTART:20241027T010000
END:STANDARD
BEGIN:DAYLIGHT
TZOFFSETFROM:+0100
TZOFFSETTO:+0200
TZNAME:CEST
DTSTART:20250330T010000
END:DAYLIGHT
BEGIN:STANDARD
TZOFFSETFROM:+0200
TZOFFSETTO:+0100
TZNAME:CET
DTSTART:20251026T010000
END:STANDARD
BEGIN:DAYLIGHT
TZOFFSETFROM:+0100
TZOFFSETTO:+0200
TZNAME:CEST
DTSTART:20260329T010000
END:DAYLIGHT
BEGIN:STANDARD
TZOFFSETFROM:+0200
TZOFFSETTO:+0100
TZNAME:CET
DTSTART:20261025T010000
END:STANDARD
END:VTIMEZONE
BEGIN:VEVENT
DTSTART;TZID=Europe/Paris:20250604T193000
DTEND;TZID=Europe/Paris:20250604T230000
DTSTAMP:20260422T160931
CREATED:20250519T163715Z
LAST-MODIFIED:20250705T164449Z
UID:5900-1749065400-1749078000@club-entrepreneurs-jouy.fr
SUMMARY:Réussir votre stratégie digitale !
DESCRIPTION:La soirée du Club des Entrepreneurs a été consacrée à la réussite de la stratégie digitale des entreprises quelque soit leur taille. \nAnimée par deux membres du Club : Frédérique Paumier-Moch (FP2M) et Kaothar Meziane (MoveToDigitall)\, elle a permis de mieux comprendre comment élaborer et mettre en œuvre une stratégie digitale pour développer notre activité et gagner de nouveaux clients ? \nQuelques outils à mettre en place ont été présentés\, de même que la manière de constituer une base de données\, de générer des leads\, de créer et d’entretenir des liens clients\, sans oublier le mix media pour les petites structures… \nLa stratégie digitale doit permettre de transmettre le bon message\, au bon moment et à la bonne cible. \nTÉLÉCHARGER LA PRÉSENTATION : \nCEJVGP_Atelier_Réussir strat digitale KM_FPM \nCette soirée participative nous a ensuite permis de nous retrouver autour d’une dégustation de poissons préparés par le BARàSOLE pour échanger en toute convivialité.
URL:https://club-entrepreneurs-jouy.fr/evenement/reussir-votre-strategie-digitale/
LOCATION:BARàSOLE\, 2 rue Oberkampf\, Jouy-en-Josas\, 78350\, France
CATEGORIES:soirée participative
ATTACH;FMTTYPE=image/png:https://club-entrepreneurs-jouy.fr/wordpress/wp-content/uploads/2025/05/stratgDigitale.png
END:VEVENT
BEGIN:VEVENT
DTSTART;TZID=Europe/Paris:20250626T180000
DTEND;TZID=Europe/Paris:20250626T220000
DTSTAMP:20260422T160931
CREATED:20250526T094951Z
LAST-MODIFIED:20250526T095232Z
UID:5933-1750960800-1750975200@club-entrepreneurs-jouy.fr
SUMMARY:Soirée annuelle des Entrepreneurs 2025
DESCRIPTION:La Chambre de Commerce et d’Industrie Versailles-Yvelines \net son Président Guillaume CAIROU \nont le plaisir de vous inviter \nà la Soirée annuelle des Entrepreneurs.\n\nRencontres\, découvertes et opportunités de réseautage seront une nouvelle fois au cœur de cette soirée.\n  \nINSCRIPTION ICI \n 
URL:https://club-entrepreneurs-jouy.fr/evenement/soiree-annuelle-des-entrepreneurs-2025/
LOCATION:hotel de Madame du Barry\, 21 avenue de Paris\, Versailles\, 780\, France
CATEGORIES:Soirée conviviale et festive
ATTACH;FMTTYPE=image/jpeg:https://club-entrepreneurs-jouy.fr/wordpress/wp-content/uploads/2025/05/CCI_2025.jpg
END:VEVENT
END:VCALENDAR