BEGIN:VCALENDAR
VERSION:2.0
PRODID:-//Club des Entrepreneurs de Jouy-en-Josas - ECPv6.15.20//NONSGML v1.0//EN
CALSCALE:GREGORIAN
METHOD:PUBLISH
X-WR-CALNAME:Club des Entrepreneurs de Jouy-en-Josas
X-ORIGINAL-URL:https://club-entrepreneurs-jouy.fr
X-WR-CALDESC:Évènements pour Club des Entrepreneurs de Jouy-en-Josas
REFRESH-INTERVAL;VALUE=DURATION:PT1H
X-Robots-Tag:noindex
X-PUBLISHED-TTL:PT1H
BEGIN:VTIMEZONE
TZID:Europe/Paris
BEGIN:DAYLIGHT
TZOFFSETFROM:+0100
TZOFFSETTO:+0200
TZNAME:CEST
DTSTART:20230326T010000
END:DAYLIGHT
BEGIN:STANDARD
TZOFFSETFROM:+0200
TZOFFSETTO:+0100
TZNAME:CET
DTSTART:20231029T010000
END:STANDARD
BEGIN:DAYLIGHT
TZOFFSETFROM:+0100
TZOFFSETTO:+0200
TZNAME:CEST
DTSTART:20240331T010000
END:DAYLIGHT
BEGIN:STANDARD
TZOFFSETFROM:+0200
TZOFFSETTO:+0100
TZNAME:CET
DTSTART:20241027T010000
END:STANDARD
BEGIN:DAYLIGHT
TZOFFSETFROM:+0100
TZOFFSETTO:+0200
TZNAME:CEST
DTSTART:20250330T010000
END:DAYLIGHT
BEGIN:STANDARD
TZOFFSETFROM:+0200
TZOFFSETTO:+0100
TZNAME:CET
DTSTART:20251026T010000
END:STANDARD
END:VTIMEZONE
BEGIN:VEVENT
DTSTART;TZID=Europe/Paris:20241001T183000
DTEND;TZID=Europe/Paris:20241001T230000
DTSTAMP:20260423T043557
CREATED:20240920T151718Z
LAST-MODIFIED:20241002T130409Z
UID:5492-1727807400-1727823600@club-entrepreneurs-jouy.fr
SUMMARY:Soirée Inter-Réseaux : la Force du Collectif
DESCRIPTION:Notre Club des Entrepreneurs était partenaire de la soirée Inter-Réseaux : la Force du Collectif qui s’est tenue le 1er  octobre au restaurant La Batterie à Guyancourt. \nOrganisée par les associations CréActives et Soroptimist International Club de Versailles\, la soirée très bien orchestrée a connu un grand succès. Après la présentation rapide des clubs partenaires de la soirée\, Simone Thiero\, ancienne sportive de haut niveau en Handball est intervenue. Puis\, se sont déroulés durant une vingtaine de minutes des ateliers menés par un expert sur des thèmes liés aux préoccupations des entrepreneurs : gestion financière\, prospection\, comment se rendre visible\, communication interpersonnelle\, gérer ses émotions\, rompre l’isolement… \nUne belle opportunité de réseautage avec une centaine de participants venus des réseaux du territoire dont plusieurs de notre Club des Entrepreneurs.
URL:https://club-entrepreneurs-jouy.fr/evenement/soiree-inter-reseaux-la-force-du-collectif/
LOCATION:Restaurant La Batterie de Guyancourt\, 1\, rue de la Redoute\, Guyancourt\, 78280
CATEGORIES:inter-club
ATTACH;FMTTYPE=image/jpeg:https://club-entrepreneurs-jouy.fr/wordpress/wp-content/uploads/2024/09/LaBattterie-1.jpg
END:VEVENT
BEGIN:VEVENT
DTSTART;TZID=Europe/Paris:20241005T100000
DTEND;TZID=Europe/Paris:20241005T190000
DTSTAMP:20260423T043557
CREATED:20240830T163243Z
LAST-MODIFIED:20241009T093501Z
UID:5433-1728122400-1728154800@club-entrepreneurs-jouy.fr
SUMMARY:3e Salon du Bien-Être de Jouy
DESCRIPTION:La 3e édition du Salon du Bien-Être s’est déroulée avec succès. Les 25 exposants ont pu accueillir et échanger avec les visiteurs sur leur stand et une douzaine de conférences et ateliers ont été organisés. \nLISTE DES EXPOSANTS \n \nLa présentation détaillée des exposants figure dans la  liste des membres du pôle Bien-Être du Club : voir ici.
URL:https://club-entrepreneurs-jouy.fr/evenement/3e-salon-du-bien-etre-de-jouy/
LOCATION:Salle du Vieux Marché\, Place de la Marne\, Jouy-en-Josas\, 78350\, France
CATEGORIES:Salon
ATTACH;FMTTYPE=image/png:https://club-entrepreneurs-jouy.fr/wordpress/wp-content/uploads/2024/09/3salon_du_bien-etre_fb.png
END:VEVENT
BEGIN:VEVENT
DTSTART;TZID=Europe/Paris:20241021T193000
DTEND;TZID=Europe/Paris:20241021T230000
DTSTAMP:20260423T043557
CREATED:20240927T080122Z
LAST-MODIFIED:20241106T145640Z
UID:5514-1729539000-1729551600@club-entrepreneurs-jouy.fr
SUMMARY:Savoir prospecter pour gagner de nouveaux clients
DESCRIPTION:C’est dans le cadre somptueux de l’hôtel Dolce by Wyndham Versailles au Domaine du Montcel à Jouy-en-Josas\, que le Club a organisé la soirée Savoir prospecter pour gagner de nouveaux clients\, animée par un membre du Club\, Thierry Houver (Pragmaboost Consulting)\, dont vous pouvez télécharger le fichier Résumé-aide-mémoire de son intervention: \nCEJ-VGP – Atelier Prospection- 21.10.2024 T Houver Résumé aide mémoire \nCe grand atelier ludique et pragmatique nous a permis d’avoir des réponses-clés aux questions suivantes:  \n\nComment cibler et contacter ses prospects ?\nQuels sont les canaux de prospection à privilégier ?\nComment renforcer son impact lors d’un contact téléphonique\, d’une première visite ou d’un mail ?\nDe quelle façon valoriser sa proposition de valeur et se différencier ?\nComment faire face au scepticisme ou à l’indifférence ?\n\nNous nous sommes ensuite retrouvés autour d’un délicieux cocktail dînatoire préparé par les équipes du DOLCE et avons pu échanger entre nous en toute convivialité. \nRemerciements pour les photos © Axel Vannier (membre du Club)
URL:https://club-entrepreneurs-jouy.fr/evenement/savoir-prospecter-pour-gagner-de-nouveaux-clients/
LOCATION:DOLCE by Wyndham Versailles\, 2 rue Jean Bauvinon\, Jouy-en-Josas\, 78350
CATEGORIES:soirée participative
ATTACH;FMTTYPE=image/jpeg:https://club-entrepreneurs-jouy.fr/wordpress/wp-content/uploads/2024/09/Dolce-scaled.jpg
END:VEVENT
END:VCALENDAR