BEGIN:VCALENDAR
VERSION:2.0
PRODID:-//Club des Entrepreneurs de Jouy-en-Josas - ECPv6.15.20//NONSGML v1.0//EN
CALSCALE:GREGORIAN
METHOD:PUBLISH
X-WR-CALNAME:Club des Entrepreneurs de Jouy-en-Josas
X-ORIGINAL-URL:https://club-entrepreneurs-jouy.fr
X-WR-CALDESC:Évènements pour Club des Entrepreneurs de Jouy-en-Josas
REFRESH-INTERVAL;VALUE=DURATION:PT1H
X-Robots-Tag:noindex
X-PUBLISHED-TTL:PT1H
BEGIN:VTIMEZONE
TZID:Europe/Paris
BEGIN:DAYLIGHT
TZOFFSETFROM:+0100
TZOFFSETTO:+0200
TZNAME:CEST
DTSTART:20230326T010000
END:DAYLIGHT
BEGIN:STANDARD
TZOFFSETFROM:+0200
TZOFFSETTO:+0100
TZNAME:CET
DTSTART:20231029T010000
END:STANDARD
BEGIN:DAYLIGHT
TZOFFSETFROM:+0100
TZOFFSETTO:+0200
TZNAME:CEST
DTSTART:20240331T010000
END:DAYLIGHT
BEGIN:STANDARD
TZOFFSETFROM:+0200
TZOFFSETTO:+0100
TZNAME:CET
DTSTART:20241027T010000
END:STANDARD
BEGIN:DAYLIGHT
TZOFFSETFROM:+0100
TZOFFSETTO:+0200
TZNAME:CEST
DTSTART:20250330T010000
END:DAYLIGHT
BEGIN:STANDARD
TZOFFSETFROM:+0200
TZOFFSETTO:+0100
TZNAME:CET
DTSTART:20251026T010000
END:STANDARD
END:VTIMEZONE
BEGIN:VEVENT
DTSTART;TZID=Europe/Paris:20240907T100000
DTEND;TZID=Europe/Paris:20240907T170000
DTSTAMP:20260423T060059
CREATED:20240830T155220Z
LAST-MODIFIED:20240911T085159Z
UID:5419-1725703200-1725728400@club-entrepreneurs-jouy.fr
SUMMARY:Le Club au forum des associations de Jouy
DESCRIPTION:Le samedi 7 septembre\, le Club des Entrepreneurs a participé au forum des associations de la  ville de Jouy-en-Josas au Centre Sportif et Associatif. \nPlusieurs entrepreneurs ont pu découvrir le Club et viendront le rejoindre. \nA cette occasion\, le CLub a pu aussi présenter la 3e édition du Salon du Bien-Être que son pôle Bien-Être organise avec la mairie de Jouy le 5 octobre à la salle du Vieux Marché.
URL:https://club-entrepreneurs-jouy.fr/evenement/le-club-au-forum-des-associations-de-jouy/
LOCATION:CSA\, 35 rue Saint-Roch\, Jouy-en-Josas\, 78350
CATEGORIES:stand
ATTACH;FMTTYPE=image/jpeg:https://club-entrepreneurs-jouy.fr/wordpress/wp-content/uploads/2024/08/Affiche_forum_associations2024_site.jpg
END:VEVENT
BEGIN:VEVENT
DTSTART;TZID=Europe/Paris:20240914T100000
DTEND;TZID=Europe/Paris:20240914T180000
DTSTAMP:20260423T060059
CREATED:20240830T161516Z
LAST-MODIFIED:20240916T093007Z
UID:5426-1726308000-1726336800@club-entrepreneurs-jouy.fr
SUMMARY:Le CEJ VGP au forum des associations de Versailles
DESCRIPTION:Lors du Forum des associations de Versailles\, le Club des Entrepreneurs Jouy-Versailles Grand Parc disposait d’un stand  pour présenter ses activités\, de nombreux contacts ont été établis… \n \n 
URL:https://club-entrepreneurs-jouy.fr/evenement/le-cej-vgp-au-forum-des-associations-a-versailles/
LOCATION:Avenue de Paris Versailles\, avenue de Paris\, Versailles\, 78000\, France
CATEGORIES:stand
ATTACH;FMTTYPE=image/jpeg:https://club-entrepreneurs-jouy.fr/wordpress/wp-content/uploads/2024/08/For-Vrsaill_ASSOS-2024.jpg
END:VEVENT
BEGIN:VEVENT
DTSTART;TZID=Europe/Paris:20240918T193000
DTEND;TZID=Europe/Paris:20240918T230000
DTSTAMP:20260423T060059
CREATED:20240910T221309Z
LAST-MODIFIED:20241007T115215Z
UID:5463-1726687800-1726700400@club-entrepreneurs-jouy.fr
SUMMARY:Soirée de rentrée du Club
DESCRIPTION:La soirée de rentrée du Club des Entrepreneurs s’est déroulée au restaurant Le Robin des Bois à Jouy-en-Josas. \nAprès l’accueil des nouveaux membres\, notre pôle Bien-Être a présenté la troisième édition du salon du Bien-Être qui s’est tenue le 5 octobre à la salle du Vieux-Marché à Jouy. \nLa soirée a ensuite permis aux nombreux participants d’échanger dans une ambiance très conviviale. \n(Remerciements à Christophe Ruault pour les photos)
URL:https://club-entrepreneurs-jouy.fr/evenement/soiree-de-rentree-du-club/
LOCATION:Le Robin\, 38 avenue Jean Jaurès\, Jouy-en-Josas\, 78350
CATEGORIES:soirée participative
ATTACH;FMTTYPE=image/jpeg:https://club-entrepreneurs-jouy.fr/wordpress/wp-content/uploads/2024/09/robin1.jpg
END:VEVENT
END:VCALENDAR