BEGIN:VCALENDAR
VERSION:2.0
PRODID:-//Club des Entrepreneurs de Jouy-en-Josas - ECPv6.15.20//NONSGML v1.0//EN
CALSCALE:GREGORIAN
METHOD:PUBLISH
X-ORIGINAL-URL:https://club-entrepreneurs-jouy.fr
X-WR-CALDESC:Évènements pour Club des Entrepreneurs de Jouy-en-Josas
REFRESH-INTERVAL;VALUE=DURATION:PT1H
X-Robots-Tag:noindex
X-PUBLISHED-TTL:PT1H
BEGIN:VTIMEZONE
TZID:Europe/Paris
BEGIN:DAYLIGHT
TZOFFSETFROM:+0100
TZOFFSETTO:+0200
TZNAME:CEST
DTSTART:20220327T010000
END:DAYLIGHT
BEGIN:STANDARD
TZOFFSETFROM:+0200
TZOFFSETTO:+0100
TZNAME:CET
DTSTART:20221030T010000
END:STANDARD
BEGIN:DAYLIGHT
TZOFFSETFROM:+0100
TZOFFSETTO:+0200
TZNAME:CEST
DTSTART:20230326T010000
END:DAYLIGHT
BEGIN:STANDARD
TZOFFSETFROM:+0200
TZOFFSETTO:+0100
TZNAME:CET
DTSTART:20231029T010000
END:STANDARD
BEGIN:DAYLIGHT
TZOFFSETFROM:+0100
TZOFFSETTO:+0200
TZNAME:CEST
DTSTART:20240331T010000
END:DAYLIGHT
BEGIN:STANDARD
TZOFFSETFROM:+0200
TZOFFSETTO:+0100
TZNAME:CET
DTSTART:20241027T010000
END:STANDARD
END:VTIMEZONE
BEGIN:VEVENT
DTSTART;TZID=Europe/Paris:20231213T193000
DTEND;TZID=Europe/Paris:20231213T230000
DTSTAMP:20260423T190342
CREATED:20231124T190959Z
LAST-MODIFIED:20231219T154218Z
UID:4874-1702495800-1702508400@club-entrepreneurs-jouy.fr
SUMMARY:Soirée de fin d'année
DESCRIPTION:Notre soirée de fin d’année a permis de nous retrouver dans l’espace convivial du restaurant BARàSOLE à Jouy-en-Josas. Nous étions plus d’une quarantaine de membres pour accueillir les nouveaux et récents membres du Club et évoquer les activités du Club et de ses pôles.
URL:https://club-entrepreneurs-jouy.fr/evenement/soiree-de-fin-dannee/
LOCATION:BARàSOLE\, 2 rue Oberkampf\, Jouy-en-Josas\, 78350\, France
CATEGORIES:soirée participative
ATTACH;FMTTYPE=image/jpeg:https://club-entrepreneurs-jouy.fr/wordpress/wp-content/uploads/2023/10/BARaSOLE.jpg
END:VEVENT
END:VCALENDAR