BEGIN:VCALENDAR
VERSION:2.0
PRODID:-//Club des Entrepreneurs de Jouy-en-Josas - ECPv6.15.20//NONSGML v1.0//EN
CALSCALE:GREGORIAN
METHOD:PUBLISH
X-ORIGINAL-URL:https://club-entrepreneurs-jouy.fr
X-WR-CALDESC:Évènements pour Club des Entrepreneurs de Jouy-en-Josas
REFRESH-INTERVAL;VALUE=DURATION:PT1H
X-Robots-Tag:noindex
X-PUBLISHED-TTL:PT1H
BEGIN:VTIMEZONE
TZID:Europe/Paris
BEGIN:DAYLIGHT
TZOFFSETFROM:+0100
TZOFFSETTO:+0200
TZNAME:CEST
DTSTART:20220327T010000
END:DAYLIGHT
BEGIN:STANDARD
TZOFFSETFROM:+0200
TZOFFSETTO:+0100
TZNAME:CET
DTSTART:20221030T010000
END:STANDARD
BEGIN:DAYLIGHT
TZOFFSETFROM:+0100
TZOFFSETTO:+0200
TZNAME:CEST
DTSTART:20230326T010000
END:DAYLIGHT
BEGIN:STANDARD
TZOFFSETFROM:+0200
TZOFFSETTO:+0100
TZNAME:CET
DTSTART:20231029T010000
END:STANDARD
BEGIN:DAYLIGHT
TZOFFSETFROM:+0100
TZOFFSETTO:+0200
TZNAME:CEST
DTSTART:20240331T010000
END:DAYLIGHT
BEGIN:STANDARD
TZOFFSETFROM:+0200
TZOFFSETTO:+0100
TZNAME:CET
DTSTART:20241027T010000
END:STANDARD
END:VTIMEZONE
BEGIN:VEVENT
DTSTART;TZID=Europe/Paris:20230909T100000
DTEND;TZID=Europe/Paris:20230909T180000
DTSTAMP:20260423T232524
CREATED:20230704T131444Z
LAST-MODIFIED:20230920T141917Z
UID:4649-1694253600-1694282400@club-entrepreneurs-jouy.fr
SUMMARY:Forums des associations
DESCRIPTION:Le Club des Entrepreneurs a participé aux forums des associations des villes de Versailles\, Jouy-en-Josas et des Les Loges-en-Josas. \nLes contacts ont permis à plusieurs dizaines de personnes de découvrir notre Club et d’échanger sur l’intérêt de favoriser et développer les contacts entre les entrepreneurs du territoire.Jean-Noël Barrot\, ministre de la Transition numérique et des télécommunications  de passage sur le stand du Club.
URL:https://club-entrepreneurs-jouy.fr/evenement/forums-des-associations/
LOCATION:Jouy-en-Josas\, 78350\, France
CATEGORIES:stand
ATTACH;FMTTYPE=image/jpeg:https://club-entrepreneurs-jouy.fr/wordpress/wp-content/uploads/2023/07/Forums2023-1.jpg
END:VEVENT
BEGIN:VEVENT
DTSTART;TZID=Europe/Paris:20230913T190000
DTEND;TZID=Europe/Paris:20230913T223000
DTSTAMP:20260423T232524
CREATED:20230629T211930Z
LAST-MODIFIED:20230916T104205Z
UID:4643-1694631600-1694644200@club-entrepreneurs-jouy.fr
SUMMARY:Comment réussir vos négociations ?
DESCRIPTION:Notre soirée de rentrée consacrée à l’art de la négociation\, que ce soit en matière commerciale\, managériale\, familiale ou sociale a été animée par Thierry Houver\, membre du Club depuis sa création en 2010. \nCe grand atelier a rassemblé plus d’une quarantaine de participants et Thierry en a assuré le succès grâce à l’utilisation de l’application “Kahoot!” qui a permis une animation d’échanges très participative.
URL:https://club-entrepreneurs-jouy.fr/evenement/comment-reussir-vos-negociations/
LOCATION:Le 12’15’ by Gaulupeau\, 1 rue du Petit Robinson\, Jouy-en-Josas\, 78350\, France
CATEGORIES:soirée participative
ATTACH;FMTTYPE=image/jpeg:https://club-entrepreneurs-jouy.fr/wordpress/wp-content/uploads/2023/06/13sept23_5-scaled.jpg
END:VEVENT
END:VCALENDAR