BEGIN:VCALENDAR
VERSION:2.0
PRODID:-//Club des Entrepreneurs de Jouy-en-Josas - ECPv6.15.20//NONSGML v1.0//EN
CALSCALE:GREGORIAN
METHOD:PUBLISH
X-WR-CALNAME:Club des Entrepreneurs de Jouy-en-Josas
X-ORIGINAL-URL:https://club-entrepreneurs-jouy.fr
X-WR-CALDESC:Évènements pour Club des Entrepreneurs de Jouy-en-Josas
REFRESH-INTERVAL;VALUE=DURATION:PT1H
X-Robots-Tag:noindex
X-PUBLISHED-TTL:PT1H
BEGIN:VTIMEZONE
TZID:Europe/Paris
BEGIN:DAYLIGHT
TZOFFSETFROM:+0100
TZOFFSETTO:+0200
TZNAME:CEST
DTSTART:20220327T010000
END:DAYLIGHT
BEGIN:STANDARD
TZOFFSETFROM:+0200
TZOFFSETTO:+0100
TZNAME:CET
DTSTART:20221030T010000
END:STANDARD
BEGIN:DAYLIGHT
TZOFFSETFROM:+0100
TZOFFSETTO:+0200
TZNAME:CEST
DTSTART:20230326T010000
END:DAYLIGHT
BEGIN:STANDARD
TZOFFSETFROM:+0200
TZOFFSETTO:+0100
TZNAME:CET
DTSTART:20231029T010000
END:STANDARD
BEGIN:DAYLIGHT
TZOFFSETFROM:+0100
TZOFFSETTO:+0200
TZNAME:CEST
DTSTART:20240331T010000
END:DAYLIGHT
BEGIN:STANDARD
TZOFFSETFROM:+0200
TZOFFSETTO:+0100
TZNAME:CET
DTSTART:20241027T010000
END:STANDARD
END:VTIMEZONE
BEGIN:VEVENT
DTSTART;TZID=Europe/Paris:20230524T190000
DTEND;TZID=Europe/Paris:20230524T220000
DTSTAMP:20260424T045850
CREATED:20230503T093221Z
LAST-MODIFIED:20230607T152330Z
UID:4568-1684954800-1684965600@club-entrepreneurs-jouy.fr
SUMMARY:Le partage de la valeur : quelles opportunités ?
DESCRIPTION:Le 24 mai\, notre soirée s’est tenue dans le nouvel espace Le 12’15’ by Gaulupeau situé dans la zone d’activités du Petit Robinson à Jouy-en-Josas et que nous avons pu découvrir à l’occasion de notre réunion sur le thème d’actualité du partage de la valeur. \nGonzague La Fonta (Cabinet adRem Global)\, membre du Club et spécialiste de ce sujet nous a dressé un panaroma historique  du “partage de la valeur” et des orientations actuelles. \nSi  les entreprises ont des obligations\, comment les transformer en opportunité ? Il existe des solutions adaptées pour maximiser l’efficacité\, il y a des pratiques gagnantes pour les TPE PME\, avec des avantages financiers\, sociaux\, fiscaux et comptables. \nIl est en tout cas possible de bien anticiper cette obligation qui\, même si elle ne s’applique pas encore aux entreprises de moins de 10 salariés\, n’en constitue pas moins un outil très efficace de bonne gestion des revenus des chefs d’entreprises et de ceux de leurs collaborateurs.
URL:https://club-entrepreneurs-jouy.fr/evenement/le-partage-la-valeur-quelles-opportunites/
LOCATION:Le 12’15’ by Gaulupeau\, 1 rue du Petit Robinson\, Jouy-en-Josas\, 78350\, France
CATEGORIES:soirée participative
ATTACH;FMTTYPE=image/jpeg:https://club-entrepreneurs-jouy.fr/wordpress/wp-content/uploads/2023/05/1215Selection.jpg
END:VEVENT
END:VCALENDAR