BEGIN:VCALENDAR
VERSION:2.0
PRODID:-//Club des Entrepreneurs de Jouy-en-Josas - ECPv6.15.20//NONSGML v1.0//EN
CALSCALE:GREGORIAN
METHOD:PUBLISH
X-WR-CALNAME:Club des Entrepreneurs de Jouy-en-Josas
X-ORIGINAL-URL:https://club-entrepreneurs-jouy.fr
X-WR-CALDESC:Évènements pour Club des Entrepreneurs de Jouy-en-Josas
REFRESH-INTERVAL;VALUE=DURATION:PT1H
X-Robots-Tag:noindex
X-PUBLISHED-TTL:PT1H
BEGIN:VTIMEZONE
TZID:Europe/Paris
BEGIN:DAYLIGHT
TZOFFSETFROM:+0100
TZOFFSETTO:+0200
TZNAME:CEST
DTSTART:20210328T010000
END:DAYLIGHT
BEGIN:STANDARD
TZOFFSETFROM:+0200
TZOFFSETTO:+0100
TZNAME:CET
DTSTART:20211031T010000
END:STANDARD
BEGIN:DAYLIGHT
TZOFFSETFROM:+0100
TZOFFSETTO:+0200
TZNAME:CEST
DTSTART:20220327T010000
END:DAYLIGHT
BEGIN:STANDARD
TZOFFSETFROM:+0200
TZOFFSETTO:+0100
TZNAME:CET
DTSTART:20221030T010000
END:STANDARD
BEGIN:DAYLIGHT
TZOFFSETFROM:+0100
TZOFFSETTO:+0200
TZNAME:CEST
DTSTART:20230326T010000
END:DAYLIGHT
BEGIN:STANDARD
TZOFFSETFROM:+0200
TZOFFSETTO:+0100
TZNAME:CET
DTSTART:20231029T010000
END:STANDARD
END:VTIMEZONE
BEGIN:VEVENT
DTSTART;TZID=Europe/Paris:20221207T193000
DTEND;TZID=Europe/Paris:20221207T230000
DTSTAMP:20260424T120547
CREATED:20221107T114159Z
LAST-MODIFIED:20221208T172510Z
UID:4079-1670441400-1670454000@club-entrepreneurs-jouy.fr
SUMMARY:Soirée sur les pôles métiers du Club
DESCRIPTION:Notre soirée du 7 décembre a été consacrée aux pôles métiers du Club. Aux côtés du pôle Startup & Développement animé par Eric Margoto\, du pôle RH animé par Raphaëlle Gublin et du pôle DD-RSE animé par Philippe Wasselin a été créé un nouveau pôle Bien-Être animé par Julie Morcant\, à la suite notamment du succès remporté par le premier salon du Bien-être qui s’est tenu le 1er octobre à Jouy-en-Josas. \nLe but des pôles est de regrouper les membres du Club qui travaillent sur les mêmes thématiques ou dans des univers proches\, qui peuvent conjuguer leur savoir-faire ou encore mener des actions ensemble. \nAu cours de la soirée la composition des pôles a été revue et complétée et des lignes d’action ont été définies pour aller encore plus loin ensemble. \nPour en savoir plus voir la rubrique sur les pôles.
URL:https://club-entrepreneurs-jouy.fr/evenement/soiree-sur-le-poles-metiers-du-club/
LOCATION:Golf de la Boulie\, Rue du Pont Colbert\, Jouy-en-Josas\, 78350\, France
CATEGORIES:soirée participative
END:VEVENT
END:VCALENDAR