BEGIN:VCALENDAR
VERSION:2.0
PRODID:-//Club des Entrepreneurs de Jouy-en-Josas - ECPv6.15.20//NONSGML v1.0//EN
CALSCALE:GREGORIAN
METHOD:PUBLISH
X-ORIGINAL-URL:https://club-entrepreneurs-jouy.fr
X-WR-CALDESC:Évènements pour Club des Entrepreneurs de Jouy-en-Josas
REFRESH-INTERVAL;VALUE=DURATION:PT1H
X-Robots-Tag:noindex
X-PUBLISHED-TTL:PT1H
BEGIN:VTIMEZONE
TZID:Europe/Paris
BEGIN:DAYLIGHT
TZOFFSETFROM:+0100
TZOFFSETTO:+0200
TZNAME:CEST
DTSTART:20210328T010000
END:DAYLIGHT
BEGIN:STANDARD
TZOFFSETFROM:+0200
TZOFFSETTO:+0100
TZNAME:CET
DTSTART:20211031T010000
END:STANDARD
BEGIN:DAYLIGHT
TZOFFSETFROM:+0100
TZOFFSETTO:+0200
TZNAME:CEST
DTSTART:20220327T010000
END:DAYLIGHT
BEGIN:STANDARD
TZOFFSETFROM:+0200
TZOFFSETTO:+0100
TZNAME:CET
DTSTART:20221030T010000
END:STANDARD
BEGIN:DAYLIGHT
TZOFFSETFROM:+0100
TZOFFSETTO:+0200
TZNAME:CEST
DTSTART:20230326T010000
END:DAYLIGHT
BEGIN:STANDARD
TZOFFSETFROM:+0200
TZOFFSETTO:+0100
TZNAME:CET
DTSTART:20231029T010000
END:STANDARD
END:VTIMEZONE
BEGIN:VEVENT
DTSTART;TZID=Europe/Paris:20221001T100000
DTEND;TZID=Europe/Paris:20221001T190000
DTSTAMP:20260424T145312
CREATED:20220726T222424Z
LAST-MODIFIED:20221108T115614Z
UID:3743-1664618400-1664650800@club-entrepreneurs-jouy.fr
SUMMARY:1er salon du Bien-être à Jouy-en-Josas
DESCRIPTION:Le 1er octobre s’est tenu le 1er salon du Bien-être organisé par le Club des Entrepreneurs Jouy-Versailles Grand Parc et la Mairie de Jouy-en-Josas. Plus d’une vingtaine d’exposants ont accueilli plusieurs centaines de visiteurs pour les aider à mieux vivre leur intérieur : thérapies\, massages\, coaching\, artisanat\, décoration\, maison…Dans une ambiance tamisée et reposante\, les visiteurs ont découvert des stands\, des ateliers\, des consultations individuelles\, des séances découvertes de soins énergétiques\, de massages bien-être\, de réflexologie\, de soins aryurvédiques\, de sophrologie\, de massages Amma assis\, de naturopathie\, de coach de vie\, d’hypnothérapie\, de soins Lahochi\, de yoga\, de shiatsu\, de Reiki\, de sylvothérapie\, de magnétisme\, de psycho-énergie\, de relaxation\, de coaching scolaire et d’orientation… \nCôté intérieur de la maison\, il y avait aussi des stands sur le confort de l’habitat\, le coaching rangement\, l’artisanat local\, la décoration d’intérieur\, la tapisserie d’ameublement ou encore la création d’un jardin zen… \nSept conférences ont également eu lieu sur des thèmes très variés : naturopathie holistique\, méthode énergétique Lahochi\, rangement et bien-être\, art thérapie\, libérer ses émotions\, qu’attendre des cercles de femmes\, retrouver l’amour en soi…  \nAprès le succès de cette première édition\, il est probable qu’un deuxième salon sera organisé en 2023 ! \n\n \n \n  \n 
URL:https://club-entrepreneurs-jouy.fr/evenement/1er-salon-du-bien-etre-a-jouy-en-josas/
LOCATION:Salle du Vieux Marché\, Place de la Marne\, Jouy-en-Josas\, 78350\, France
CATEGORIES:atelier,stand
ATTACH;FMTTYPE=image/jpeg:https://club-entrepreneurs-jouy.fr/wordpress/wp-content/uploads/2022/07/RS_carres-titre_2.jpg
END:VEVENT
BEGIN:VEVENT
DTSTART;TZID=Europe/Paris:20221012T193000
DTEND;TZID=Europe/Paris:20221012T230000
DTSTAMP:20260424T145312
CREATED:20220905T093024Z
LAST-MODIFIED:20221015T082816Z
UID:3790-1665603000-1665615600@club-entrepreneurs-jouy.fr
SUMMARY:La problématique de l'hydrogène vert
DESCRIPTION:Nous avons reçu Xavier Drago\, ingénieur consultant chez ARCLÈS qui a évoqué le rôle que pourrait jouer l’hydrogène vert dans la transition énergétique. En particulier cette présentation a montré l’importance de pouvoir produire de l’électricité d’origine renouvelable (hydraulique\, photovoltaïque\, éolien) si on veut produire en masse de l’hydrogène vert. \nBien sûr l’électricité nucléaire (hydrogène jaune) permettra à terme une production de masse\, mais pour l’heure le parc nucléaire français n’est pas encore au rendez-vous. \nXavier Drago\, après un long parcours dans le Groupe Air Liquide\, dans la recherche\, l’ingénierie\, les opérations\, a créé puis dirigé la direction Développement Durable du Groupe ;  il a aussi assuré la création et la direction de la Fondation Air Liquide.
URL:https://club-entrepreneurs-jouy.fr/evenement/quest-ce-que-lhydrogene-vert/
LOCATION:Golf de la Boulie\, Rue du Pont Colbert\, Jouy-en-Josas\, 78350\, France
CATEGORIES:soirée participative
END:VEVENT
BEGIN:VEVENT
DTSTART;TZID=Europe/Paris:20221018T183000
DTEND;TZID=Europe/Paris:20221018T193000
DTSTAMP:20260424T145312
CREATED:20220913T080929Z
LAST-MODIFIED:20221019T091035Z
UID:3837-1666117800-1666121400@club-entrepreneurs-jouy.fr
SUMMARY:Atelier-webinaire : créer un site internet en 45 mn
DESCRIPTION:Dans le cadre des Ateliers du Mardi proposés par notre Club des Entrepreneurs et son pôle Startup & Développement un webinaire a été consacré le 18 octobre de 18h30 à 19h30 au thème : \nCréer un site internet en 45 minutes \nIntervenant : Patrick Germain (webadmin.fr)\, membre du Club. \nEn prenant l’exemple d’un entrepreneur qui veut bâtir sa communication numérique\, il a démontré la facilité d’utilisation de l’outil Word Press\, n°1 mondial des systèmes de gestion de contenu Internet\, pour créer un site Internet opérationnel en 45 minutes en partant de 0. \nEn savoir plus
URL:https://club-entrepreneurs-jouy.fr/evenement/atelier-webinaire-creer-un-site-internet-en-45-mn/
LOCATION:Webinaire\, France
CATEGORIES:atelier
ATTACH;FMTTYPE=image/jpeg:https://club-entrepreneurs-jouy.fr/wordpress/wp-content/uploads/2022/09/webadmin_fr.jpg
END:VEVENT
END:VCALENDAR