BEGIN:VCALENDAR
VERSION:2.0
PRODID:-//Club des Entrepreneurs de Jouy-en-Josas - ECPv6.15.20//NONSGML v1.0//EN
CALSCALE:GREGORIAN
METHOD:PUBLISH
X-ORIGINAL-URL:https://club-entrepreneurs-jouy.fr
X-WR-CALDESC:Évènements pour Club des Entrepreneurs de Jouy-en-Josas
REFRESH-INTERVAL;VALUE=DURATION:PT1H
X-Robots-Tag:noindex
X-PUBLISHED-TTL:PT1H
BEGIN:VTIMEZONE
TZID:Europe/Paris
BEGIN:DAYLIGHT
TZOFFSETFROM:+0100
TZOFFSETTO:+0200
TZNAME:CEST
DTSTART:20200329T010000
END:DAYLIGHT
BEGIN:STANDARD
TZOFFSETFROM:+0200
TZOFFSETTO:+0100
TZNAME:CET
DTSTART:20201025T010000
END:STANDARD
BEGIN:DAYLIGHT
TZOFFSETFROM:+0100
TZOFFSETTO:+0200
TZNAME:CEST
DTSTART:20210328T010000
END:DAYLIGHT
BEGIN:STANDARD
TZOFFSETFROM:+0200
TZOFFSETTO:+0100
TZNAME:CET
DTSTART:20211031T010000
END:STANDARD
BEGIN:DAYLIGHT
TZOFFSETFROM:+0100
TZOFFSETTO:+0200
TZNAME:CEST
DTSTART:20220327T010000
END:DAYLIGHT
BEGIN:STANDARD
TZOFFSETFROM:+0200
TZOFFSETTO:+0100
TZNAME:CET
DTSTART:20221030T010000
END:STANDARD
END:VTIMEZONE
BEGIN:VEVENT
DTSTART;TZID=Europe/Paris:20210601T183000
DTEND;TZID=Europe/Paris:20210601T193000
DTSTAMP:20260425T163137
CREATED:20210515T135942Z
LAST-MODIFIED:20210602T225334Z
UID:2804-1622572200-1622575800@club-entrepreneurs-jouy.fr
SUMMARY:Atelier Publicité et communication papier
DESCRIPTION:Dans le cadre des Ateliers du Mardi du Club des Entrepreneurs consacrés au thème « Mieux communiquer »  la publicité et la communication papier a été abordé par Frédérique Paumier-Moch (FP2M)\, experte en communication et marketing digital et membre du Club. \n \nQuelles sont les situations appropriées à l’usage du papier en publicité\, pour la promotion et le marketing direct ? Comment réussir son mailing papier en jouant sur l’affectif ? Comment bénéficier de l’avantage mémorisation du courrier papier ? Trouver le bon équilibre entre les canaux : mailing papier\, e-mailing\, SMS… Quels sont les facteurs clés d’une communication papier en tenant compte des cibles\, du budget\, du planning\, de la performance… ? \nCet atelier faisait suite aux deux précédents qui portaient sur la stratégie de la communication et sur les techniques de l’emailing et de la newsletter.
URL:https://club-entrepreneurs-jouy.fr/evenement/atelier-mieux-communiquer/
LOCATION:Webinaire\, France
CATEGORIES:Visioconférence
ATTACH;FMTTYPE=image/jpeg:https://club-entrepreneurs-jouy.fr/wordpress/wp-content/uploads/2021/05/CLUB-DES-ENTREPRENEURS-DE-JOUY-EN-JOSAS.jpg
END:VEVENT
BEGIN:VEVENT
DTSTART;TZID=Europe/Paris:20210609T183000
DTEND;TZID=Europe/Paris:20210609T223000
DTSTAMP:20260425T163137
CREATED:20210515T164105Z
LAST-MODIFIED:20210615T101627Z
UID:2819-1623263400-1623277800@club-entrepreneurs-jouy.fr
SUMMARY:Soirée du Club au restaurant du Golf de la Boulie
DESCRIPTION:Le mercredi 9 juin à partir de 18h30 nous nous sommes donc retrouvés physiquement dans les espaces du restaurant 18.82 du Golf de la Boulie. \nLes échanges ont été nombreux et fructueux entre les membres du Club qui ne s’étaient pas réunis depuis le 14 octobre\, date de notre soirée sur la “relance des TPE\, commerces et artisans” qui avait donné naissance à une série d’une quinzaine d’ Ateliers du mardi qui se sont tenus à un rythme soutenu de décembre à juin.
URL:https://club-entrepreneurs-jouy.fr/evenement/soiree-du-club-au-restaurant-du-golf-de-la-boulie/
LOCATION:Golf de la Boulie\, Rue du Pont Colbert\, Jouy-en-Josas\, 78350\, France
CATEGORIES:soirée participative
ATTACH;FMTTYPE=image/jpeg:https://club-entrepreneurs-jouy.fr/wordpress/wp-content/uploads/2021/05/golf-jouy.jpg
END:VEVENT
BEGIN:VEVENT
DTSTART;TZID=Europe/Paris:20210622T183000
DTEND;TZID=Europe/Paris:20210622T223000
DTSTAMP:20260425T163137
CREATED:20210527T115204Z
LAST-MODIFIED:20210723T170222Z
UID:2837-1624386600-1624401000@club-entrepreneurs-jouy.fr
SUMMARY:Grande soirée Interclubs de retour !
DESCRIPTION:Plus d’une centaine d’entrepreneurs ont participé à l’interclubs organisé par le Club des Entrepreneurs Jouy-Versailles Grand Parc et le Club Entrepreneurs 92 (Vallée Sud Grand Paris) au restaurant 18.82 du Golf de la Boulie. \n   \nEtaient également présents des adhérents du MEDEF Hauts-de-Seine\, partenaire du Club Entrepreneurs 92\, des membres du réseau d’affaires HaOui et de Convergences Smart City\, club basé à Saint-Quentin-en-Yvelines\, avec lequel nous souhaitons accroître nos synergies au cœur du territoire de Paris-Saclay.
URL:https://club-entrepreneurs-jouy.fr/evenement/grande-soiree-interclubs-de-retour/
LOCATION:Golf de la Boulie\, Rue du Pont Colbert\, Jouy-en-Josas\, 78350\, France
CATEGORIES:inter-club
ATTACH;FMTTYPE=image/png:https://club-entrepreneurs-jouy.fr/wordpress/wp-content/uploads/2018/03/laboulie.png
END:VEVENT
END:VCALENDAR