BEGIN:VCALENDAR
VERSION:2.0
PRODID:-//Club des Entrepreneurs de Jouy-en-Josas - ECPv6.15.20//NONSGML v1.0//EN
CALSCALE:GREGORIAN
METHOD:PUBLISH
X-ORIGINAL-URL:https://club-entrepreneurs-jouy.fr
X-WR-CALDESC:Évènements pour Club des Entrepreneurs de Jouy-en-Josas
REFRESH-INTERVAL;VALUE=DURATION:PT1H
X-Robots-Tag:noindex
X-PUBLISHED-TTL:PT1H
BEGIN:VTIMEZONE
TZID:Europe/Paris
BEGIN:DAYLIGHT
TZOFFSETFROM:+0100
TZOFFSETTO:+0200
TZNAME:CEST
DTSTART:20200329T010000
END:DAYLIGHT
BEGIN:STANDARD
TZOFFSETFROM:+0200
TZOFFSETTO:+0100
TZNAME:CET
DTSTART:20201025T010000
END:STANDARD
BEGIN:DAYLIGHT
TZOFFSETFROM:+0100
TZOFFSETTO:+0200
TZNAME:CEST
DTSTART:20210328T010000
END:DAYLIGHT
BEGIN:STANDARD
TZOFFSETFROM:+0200
TZOFFSETTO:+0100
TZNAME:CET
DTSTART:20211031T010000
END:STANDARD
BEGIN:DAYLIGHT
TZOFFSETFROM:+0100
TZOFFSETTO:+0200
TZNAME:CEST
DTSTART:20220327T010000
END:DAYLIGHT
BEGIN:STANDARD
TZOFFSETFROM:+0200
TZOFFSETTO:+0100
TZNAME:CET
DTSTART:20221030T010000
END:STANDARD
END:VTIMEZONE
BEGIN:VEVENT
DTSTART;TZID=Europe/Paris:20210209T183000
DTEND;TZID=Europe/Paris:20210209T193000
DTSTAMP:20260425T225222
CREATED:20210128T164207Z
LAST-MODIFIED:20210212T232057Z
UID:2627-1612895400-1612899000@club-entrepreneurs-jouy.fr
SUMMARY:Mieux communiquer
DESCRIPTION:L’atelier du mardi 9 février sur le thème « Mieux communiquer» était animé par un membre du Club\, Frédérique Paumier-Moch ; experte en communication et marketing digital BtoB / BtoC. \n \n• Dans une première partie Frédérique a rappelé les étapes à suivre en amont de la stratégie : objectifs à définir\, segmentation\, ciblage\, positionnement (différentiation)… \n•  Puis elle a abordé la mise en œuvre de sa stratégie de communication : les objectifs\, les différentes cibles\, les techniques de communication (publicité\, promotion\, marketing\, relations publiques\, salons\, sponsoring)\, la répartition des médias et des canaux par typologies et les critères pour choisir les bons canaux de communication…
URL:https://club-entrepreneurs-jouy.fr/evenement/mieux-communiquer/
LOCATION:Webinaire\, France
CATEGORIES:Visioconférence
ATTACH;FMTTYPE=image/jpeg:https://club-entrepreneurs-jouy.fr/wordpress/wp-content/uploads/2021/01/SchemaCom2.jpg
END:VEVENT
BEGIN:VEVENT
DTSTART;TZID=Europe/Paris:20210223T183000
DTEND;TZID=Europe/Paris:20210223T193000
DTSTAMP:20260425T225222
CREATED:20210212T233902Z
LAST-MODIFIED:20210226T143002Z
UID:2644-1614105000-1614108600@club-entrepreneurs-jouy.fr
SUMMARY:Linkedin et Phoning\, duo gagnant de la prospection
DESCRIPTION:L’atelier Linkedin et Phoning\, le duo gagnant de la prospection organisé par le pôle Sartup & Développement du Club\, était animé par deux membres du Club :  Sophie Courtant\, coach de dirigeant certifiée\, et Jacques Delbos\, expert en développement commercial des PME. \n \nL’atelier a été très riche en recommandantions et conseils sur : Comment optimiser son profil Linkedin\, savoir adapter son image Linkedin\, bien qualifier ses prospects avant de les contacter\, comment réussir sa séance de Phoning\, bien gérer son fichier de contacts et le CRM\, réussir ses prises de rendez-vous\, créer du lien dans la durée… \nSophie et Jacques se tiennent à votre disposition\, n’hésitez pas à les contacter !
URL:https://club-entrepreneurs-jouy.fr/evenement/linkedin-et-phoning-duo-gagnant-de-la-prospection/
LOCATION:Webinaire\, France
CATEGORIES:Visioconférence
ATTACH;FMTTYPE=image/jpeg:https://club-entrepreneurs-jouy.fr/wordpress/wp-content/uploads/2020/01/linkedin.jpg
END:VEVENT
END:VCALENDAR