BEGIN:VCALENDAR
VERSION:2.0
PRODID:-//Club des Entrepreneurs de Jouy-en-Josas - ECPv6.15.20//NONSGML v1.0//EN
CALSCALE:GREGORIAN
METHOD:PUBLISH
X-ORIGINAL-URL:https://club-entrepreneurs-jouy.fr
X-WR-CALDESC:Évènements pour Club des Entrepreneurs de Jouy-en-Josas
REFRESH-INTERVAL;VALUE=DURATION:PT1H
X-Robots-Tag:noindex
X-PUBLISHED-TTL:PT1H
BEGIN:VTIMEZONE
TZID:Europe/Paris
BEGIN:DAYLIGHT
TZOFFSETFROM:+0100
TZOFFSETTO:+0200
TZNAME:CEST
DTSTART:20190331T010000
END:DAYLIGHT
BEGIN:STANDARD
TZOFFSETFROM:+0200
TZOFFSETTO:+0100
TZNAME:CET
DTSTART:20191027T010000
END:STANDARD
BEGIN:DAYLIGHT
TZOFFSETFROM:+0100
TZOFFSETTO:+0200
TZNAME:CEST
DTSTART:20200329T010000
END:DAYLIGHT
BEGIN:STANDARD
TZOFFSETFROM:+0200
TZOFFSETTO:+0100
TZNAME:CET
DTSTART:20201025T010000
END:STANDARD
BEGIN:DAYLIGHT
TZOFFSETFROM:+0100
TZOFFSETTO:+0200
TZNAME:CEST
DTSTART:20210328T010000
END:DAYLIGHT
BEGIN:STANDARD
TZOFFSETFROM:+0200
TZOFFSETTO:+0100
TZNAME:CET
DTSTART:20211031T010000
END:STANDARD
END:VTIMEZONE
BEGIN:VEVENT
DTSTART;TZID=Europe/Paris:20201014T190000
DTEND;TZID=Europe/Paris:20201014T223000
DTSTAMP:20260426T051022
CREATED:20200915T142127Z
LAST-MODIFIED:20201017T120237Z
UID:2409-1602702000-1602714600@club-entrepreneurs-jouy.fr
SUMMARY:TPE/commerces/artisans\, quelle relance ?
DESCRIPTION:Cette soirée organisée par notre pôle Startup & Développement a été consacrée à la relance des TPE\, commerçants et artisans\, elle s’est déroulée en deux parties. \n\nla première a permis d’entendre des témoignages d’exploitants (commerces\, artisans et TPE) qui ont su rebondir face à la crise en mettant en œuvre des actions réussies ;\nla seconde a porté sur les outils de la relance sous la forme de tables rondes animées par les membres du pôle Startup & Développement. Plusieurs thématiques ont été évoquées : trésorerie\, action commerciale\, stratégie\, marketing digital…\n			\n				\n			\n			\n				\n			\n			\n				\n			\n			\n				\n			\n			\n				\n			\n			\n				\n			\n			\n				\n			\n			\n				\n			\n			\n				\n			\n			\n				\n			\n			\n				\n			\n			\n				\n			\n			\n				\n			\n		\n\nRemerciements à Philippe Girard pour les photos
URL:https://club-entrepreneurs-jouy.fr/evenement/tpe-commerces-artisans-quelle-relance/
LOCATION:Golf de la Boulie\, Rue du Pont Colbert\, Jouy-en-Josas\, 78350\, France
CATEGORIES:soirée participative
END:VEVENT
END:VCALENDAR