BEGIN:VCALENDAR
VERSION:2.0
PRODID:-//Club des Entrepreneurs de Jouy-en-Josas - ECPv6.15.20//NONSGML v1.0//EN
CALSCALE:GREGORIAN
METHOD:PUBLISH
X-ORIGINAL-URL:https://club-entrepreneurs-jouy.fr
X-WR-CALDESC:Évènements pour Club des Entrepreneurs de Jouy-en-Josas
REFRESH-INTERVAL;VALUE=DURATION:PT1H
X-Robots-Tag:noindex
X-PUBLISHED-TTL:PT1H
BEGIN:VTIMEZONE
TZID:Europe/Paris
BEGIN:DAYLIGHT
TZOFFSETFROM:+0100
TZOFFSETTO:+0200
TZNAME:CEST
DTSTART:20230326T010000
END:DAYLIGHT
BEGIN:STANDARD
TZOFFSETFROM:+0200
TZOFFSETTO:+0100
TZNAME:CET
DTSTART:20231029T010000
END:STANDARD
BEGIN:DAYLIGHT
TZOFFSETFROM:+0100
TZOFFSETTO:+0200
TZNAME:CEST
DTSTART:20240331T010000
END:DAYLIGHT
BEGIN:STANDARD
TZOFFSETFROM:+0200
TZOFFSETTO:+0100
TZNAME:CET
DTSTART:20241027T010000
END:STANDARD
BEGIN:DAYLIGHT
TZOFFSETFROM:+0100
TZOFFSETTO:+0200
TZNAME:CEST
DTSTART:20250330T010000
END:DAYLIGHT
BEGIN:STANDARD
TZOFFSETFROM:+0200
TZOFFSETTO:+0100
TZNAME:CET
DTSTART:20251026T010000
END:STANDARD
END:VTIMEZONE
BEGIN:VEVENT
DTSTART;TZID=Europe/Paris:20240117T193000
DTEND;TZID=Europe/Paris:20240117T223000
DTSTAMP:20260422T105125
CREATED:20240105T143217Z
LAST-MODIFIED:20240118T112959Z
UID:4950-1705519800-1705530600@club-entrepreneurs-jouy.fr
SUMMARY:Meilleurs Vœux
DESCRIPTION:Près d’une cinquantaine de membres du Club des Entrepreneurs Jouy-VGP étaient rassemblés au restaurant Le Robin à Jouy-en-Josas pour célébrer la nouvelle année\, partager et échanger.
URL:https://club-entrepreneurs-jouy.fr/evenement/soiree-voeux-2024/
LOCATION:Le Robin\, 38 avenue Jean Jaurès\, Jouy-en-Josas\, 78350
CATEGORIES:soirée participative
ATTACH;FMTTYPE=image/jpeg:https://club-entrepreneurs-jouy.fr/wordpress/wp-content/uploads/2024/01/2024-VOEUX-scaled.jpg
END:VEVENT
END:VCALENDAR