BEGIN:VCALENDAR
VERSION:2.0
PRODID:-//Club des Entrepreneurs de Jouy-en-Josas - ECPv6.15.20//NONSGML v1.0//EN
CALSCALE:GREGORIAN
METHOD:PUBLISH
X-WR-CALNAME:Club des Entrepreneurs de Jouy-en-Josas
X-ORIGINAL-URL:https://club-entrepreneurs-jouy.fr
X-WR-CALDESC:Évènements pour Club des Entrepreneurs de Jouy-en-Josas
REFRESH-INTERVAL;VALUE=DURATION:PT1H
X-Robots-Tag:noindex
X-PUBLISHED-TTL:PT1H
BEGIN:VTIMEZONE
TZID:Europe/Paris
BEGIN:DAYLIGHT
TZOFFSETFROM:+0100
TZOFFSETTO:+0200
TZNAME:CEST
DTSTART:20220327T010000
END:DAYLIGHT
BEGIN:STANDARD
TZOFFSETFROM:+0200
TZOFFSETTO:+0100
TZNAME:CET
DTSTART:20221030T010000
END:STANDARD
BEGIN:DAYLIGHT
TZOFFSETFROM:+0100
TZOFFSETTO:+0200
TZNAME:CEST
DTSTART:20230326T010000
END:DAYLIGHT
BEGIN:STANDARD
TZOFFSETFROM:+0200
TZOFFSETTO:+0100
TZNAME:CET
DTSTART:20231029T010000
END:STANDARD
BEGIN:DAYLIGHT
TZOFFSETFROM:+0100
TZOFFSETTO:+0200
TZNAME:CEST
DTSTART:20240331T010000
END:DAYLIGHT
BEGIN:STANDARD
TZOFFSETFROM:+0200
TZOFFSETTO:+0100
TZNAME:CET
DTSTART:20241027T010000
END:STANDARD
END:VTIMEZONE
BEGIN:VEVENT
DTSTART;TZID=Europe/Paris:20230308T193000
DTEND;TZID=Europe/Paris:20230308T230000
DTSTAMP:20260425T022854
CREATED:20230128T151048Z
LAST-MODIFIED:20230228T172622Z
UID:4379-1678303800-1678316400@club-entrepreneurs-jouy.fr
SUMMARY:Soirée Club
DESCRIPTION:Vous êtes les bienvenus à la soirée du Club des Entrepreneurs le mercredi 8 mars à 19h30. Venez échanger et partager vos projets avec les membres du Club et les invités dans la plus grande convivialité ! \nPetit rappel : Cette soirée sera précédée par les réunions du pôle Bien-Être à 18h  et du pôle RH à 18h30 \nParticipation au buffet : 25€ à régler sur place
URL:https://club-entrepreneurs-jouy.fr/evenement/soiree-club-8/
LOCATION:Golf de la Boulie\, Rue du Pont Colbert\, Jouy-en-Josas\, 78350\, France
CATEGORIES:soirée participative
END:VEVENT
BEGIN:VEVENT
DTSTART;TZID=Europe/Paris:20230329T193000
DTEND;TZID=Europe/Paris:20230329T230000
DTSTAMP:20260425T022854
CREATED:20230128T152827Z
LAST-MODIFIED:20230331T124918Z
UID:4381-1680118200-1680130800@club-entrepreneurs-jouy.fr
SUMMARY:Assemblée générale du Club
DESCRIPTION:L’assemblée générale ordinaire du Club des Entrepreneurs Jouy-Versailles Grand Parc a  approuvé à l’unanimité : \n\nle rapport moral d’activités ;\nles comptes pour l’exercice 2022 ;\nle maintien du montant de la cotisation à 120€\, toujours de date à date ;\nle budget pour 2023 ;\nla nomination de Julie Morcant comme membre du conseil d’administration de l’association.
URL:https://club-entrepreneurs-jouy.fr/evenement/assemblee-generale-du-club-3/
LOCATION:Golf de la Boulie\, Rue du Pont Colbert\, Jouy-en-Josas\, 78350\, France
CATEGORIES:soirée participative
END:VEVENT
END:VCALENDAR