BEGIN:VCALENDAR
VERSION:2.0
PRODID:-//Club des Entrepreneurs de Jouy-en-Josas - ECPv6.15.20//NONSGML v1.0//EN
CALSCALE:GREGORIAN
METHOD:PUBLISH
X-ORIGINAL-URL:https://club-entrepreneurs-jouy.fr
X-WR-CALDESC:Évènements pour Club des Entrepreneurs de Jouy-en-Josas
REFRESH-INTERVAL;VALUE=DURATION:PT1H
X-Robots-Tag:noindex
X-PUBLISHED-TTL:PT1H
BEGIN:VTIMEZONE
TZID:Europe/Paris
BEGIN:DAYLIGHT
TZOFFSETFROM:+0100
TZOFFSETTO:+0200
TZNAME:CEST
DTSTART:20210328T010000
END:DAYLIGHT
BEGIN:STANDARD
TZOFFSETFROM:+0200
TZOFFSETTO:+0100
TZNAME:CET
DTSTART:20211031T010000
END:STANDARD
BEGIN:DAYLIGHT
TZOFFSETFROM:+0100
TZOFFSETTO:+0200
TZNAME:CEST
DTSTART:20220327T010000
END:DAYLIGHT
BEGIN:STANDARD
TZOFFSETFROM:+0200
TZOFFSETTO:+0100
TZNAME:CET
DTSTART:20221030T010000
END:STANDARD
BEGIN:DAYLIGHT
TZOFFSETFROM:+0100
TZOFFSETTO:+0200
TZNAME:CEST
DTSTART:20230326T010000
END:DAYLIGHT
BEGIN:STANDARD
TZOFFSETFROM:+0200
TZOFFSETTO:+0100
TZNAME:CET
DTSTART:20231029T010000
END:STANDARD
END:VTIMEZONE
BEGIN:VEVENT
DTSTART;TZID=Europe/Paris:20220601T193000
DTEND;TZID=Europe/Paris:20220601T230000
DTSTAMP:20260425T172835
CREATED:20220429T085229Z
LAST-MODIFIED:20220608T210653Z
UID:3572-1654111800-1654124400@club-entrepreneurs-jouy.fr
SUMMARY:Soirée œnologie
DESCRIPTION:Cette soirée “consommée avec modération” a été consacrée à l’art de la dégustation du vin et nous a permis d’aborder quelques règles de base pour mieux appréhender les raisons qui font que nous aimons un vin ou non. \nComment mettre en éveil nos sens pour apprécier un vin avec nos yeux\, notre langue et notre nez ? \nVincent Guillotin\, le directeur du restaurant 18.82\, grand amateur de vins s’il en est\, accompagné de son équipe\, nous a fait découvrir quelques vins choisis en abordant les critères différenciants (équilibre\, longueur\, complexité\, expression…). \nTélécharger la Présentation \n\n\n \n  \n  \n 
URL:https://club-entrepreneurs-jouy.fr/evenement/soiree-club-6/
LOCATION:Golf de la Boulie\, Rue du Pont Colbert\, Jouy-en-Josas\, 78350\, France
CATEGORIES:soirée participative
END:VEVENT
END:VCALENDAR