BEGIN:VCALENDAR
VERSION:2.0
PRODID:-//Club des Entrepreneurs de Jouy-en-Josas - ECPv6.15.20//NONSGML v1.0//EN
CALSCALE:GREGORIAN
METHOD:PUBLISH
X-ORIGINAL-URL:https://club-entrepreneurs-jouy.fr
X-WR-CALDESC:Évènements pour Club des Entrepreneurs de Jouy-en-Josas
REFRESH-INTERVAL;VALUE=DURATION:PT1H
X-Robots-Tag:noindex
X-PUBLISHED-TTL:PT1H
BEGIN:VTIMEZONE
TZID:Europe/Paris
BEGIN:DAYLIGHT
TZOFFSETFROM:+0100
TZOFFSETTO:+0200
TZNAME:CEST
DTSTART:20210328T010000
END:DAYLIGHT
BEGIN:STANDARD
TZOFFSETFROM:+0200
TZOFFSETTO:+0100
TZNAME:CET
DTSTART:20211031T010000
END:STANDARD
BEGIN:DAYLIGHT
TZOFFSETFROM:+0100
TZOFFSETTO:+0200
TZNAME:CEST
DTSTART:20220327T010000
END:DAYLIGHT
BEGIN:STANDARD
TZOFFSETFROM:+0200
TZOFFSETTO:+0100
TZNAME:CET
DTSTART:20221030T010000
END:STANDARD
BEGIN:DAYLIGHT
TZOFFSETFROM:+0100
TZOFFSETTO:+0200
TZNAME:CEST
DTSTART:20230326T010000
END:DAYLIGHT
BEGIN:STANDARD
TZOFFSETFROM:+0200
TZOFFSETTO:+0100
TZNAME:CET
DTSTART:20231029T010000
END:STANDARD
END:VTIMEZONE
BEGIN:VEVENT
DTSTART;TZID=Europe/Paris:20220413T193000
DTEND;TZID=Europe/Paris:20220413T230000
DTSTAMP:20260425T204827
CREATED:20220313T234226Z
LAST-MODIFIED:20220422T085221Z
UID:3443-1649878200-1649890800@club-entrepreneurs-jouy.fr
SUMMARY:Soirée avec la CCI Versailles-Yvelines
DESCRIPTION:Le 13 avril\, nous avons eu le plaisir de recevoir Guillaume CAIROU\, le nouveau président de la CCI Versailles-Yvelines élu en novembre. \nIl nous a présenté les orientations prioritaires de la CCI qu’il entend développer au service des entrepreneurs et des entreprises. \nNous avons ensuite abordé avec lui comment valoriser les savoir-faire\, les expertises et les expériences des membres de notre Club auprès des entreprises du territoire ? Plusieurs pistes ont été évoquées\, comme celle de faciliter le circuit court entre les TPE/ PME et les grands comptes ou de trouver des réponses opérationnelles et locales pour faire de notre territoire une terre fertile d’entrepreneurs…
URL:https://club-entrepreneurs-jouy.fr/evenement/soiree-avec-la-cci-versailles-yvelines/
LOCATION:Golf de la Boulie\, Rue du Pont Colbert\, Jouy-en-Josas\, 78350\, France
CATEGORIES:soirée participative
END:VEVENT
END:VCALENDAR