BEGIN:VCALENDAR
VERSION:2.0
PRODID:-//Club des Entrepreneurs de Jouy-en-Josas - ECPv6.15.20//NONSGML v1.0//EN
CALSCALE:GREGORIAN
METHOD:PUBLISH
X-ORIGINAL-URL:https://club-entrepreneurs-jouy.fr
X-WR-CALDESC:Évènements pour Club des Entrepreneurs de Jouy-en-Josas
REFRESH-INTERVAL;VALUE=DURATION:PT1H
X-Robots-Tag:noindex
X-PUBLISHED-TTL:PT1H
BEGIN:VTIMEZONE
TZID:Europe/Paris
BEGIN:DAYLIGHT
TZOFFSETFROM:+0100
TZOFFSETTO:+0200
TZNAME:CEST
DTSTART:20210328T010000
END:DAYLIGHT
BEGIN:STANDARD
TZOFFSETFROM:+0200
TZOFFSETTO:+0100
TZNAME:CET
DTSTART:20211031T010000
END:STANDARD
BEGIN:DAYLIGHT
TZOFFSETFROM:+0100
TZOFFSETTO:+0200
TZNAME:CEST
DTSTART:20220327T010000
END:DAYLIGHT
BEGIN:STANDARD
TZOFFSETFROM:+0200
TZOFFSETTO:+0100
TZNAME:CET
DTSTART:20221030T010000
END:STANDARD
BEGIN:DAYLIGHT
TZOFFSETFROM:+0100
TZOFFSETTO:+0200
TZNAME:CEST
DTSTART:20230326T010000
END:DAYLIGHT
BEGIN:STANDARD
TZOFFSETFROM:+0200
TZOFFSETTO:+0100
TZNAME:CET
DTSTART:20231029T010000
END:STANDARD
END:VTIMEZONE
BEGIN:VEVENT
DTSTART;TZID=Europe/Paris:20220316T193000
DTEND;TZID=Europe/Paris:20220316T230000
DTSTAMP:20260425T222913
CREATED:20220217T123635Z
LAST-MODIFIED:20220405T192833Z
UID:3380-1647459000-1647471600@club-entrepreneurs-jouy.fr
SUMMARY:Assemblée Générale du Club
DESCRIPTION:L’assemblée générale ordinaire de notre association s’est tenue au restaurant 18.82 du Golf de la Boulie\, voici les résolutions qui ont été adoptées. \n\nPremière résolution : l’assemblée générale approuve le rapport d’activités 2021 présenté par le président. Cette résolution a été adoptée à l’unanimité des membres présents et représentés.\nDeuxième résolution : l’assemblée générale donne quitus de sa gestion pour l’exercice 2021 écoulé. Cette résolution a été adoptée à l’unanimité.\nTroisième résolution : L’assemblée générale décide de fixer le montant de la cotisation due au titre de l’exercice 2022 à cent-vingt euros (120 €). Cette résolution a été adoptée à l’unanimité.\nQuatrième résolution : L’assemblée générale approuve le budget proposé pour 2022. Cette résolution a été adoptée à l’unanimité.\nCinquième résolution : Ont été élus administrateurs pour les deux ans à venir :  Raphaëlle Gublin\, Françoise Marie Lemoine\, Michel Bouchi-Lamontagne\, Bruno Delacour\, Sébastien Landry\, Eric Margoto et Philippe Wasselin. Cette résolution a été adoptée à l’unanimité.
URL:https://club-entrepreneurs-jouy.fr/evenement/assemblee-generale-du-club-2/
LOCATION:Golf de la Boulie\, Rue du Pont Colbert\, Jouy-en-Josas\, 78350\, France
CATEGORIES:soirée participative
END:VEVENT
END:VCALENDAR