BEGIN:VCALENDAR
VERSION:2.0
PRODID:-//Club des Entrepreneurs de Jouy-en-Josas - ECPv6.15.20//NONSGML v1.0//EN
CALSCALE:GREGORIAN
METHOD:PUBLISH
X-ORIGINAL-URL:https://club-entrepreneurs-jouy.fr
X-WR-CALDESC:Évènements pour Club des Entrepreneurs de Jouy-en-Josas
REFRESH-INTERVAL;VALUE=DURATION:PT1H
X-Robots-Tag:noindex
X-PUBLISHED-TTL:PT1H
BEGIN:VTIMEZONE
TZID:Europe/Paris
BEGIN:DAYLIGHT
TZOFFSETFROM:+0100
TZOFFSETTO:+0200
TZNAME:CEST
DTSTART:20200329T010000
END:DAYLIGHT
BEGIN:STANDARD
TZOFFSETFROM:+0200
TZOFFSETTO:+0100
TZNAME:CET
DTSTART:20201025T010000
END:STANDARD
BEGIN:DAYLIGHT
TZOFFSETFROM:+0100
TZOFFSETTO:+0200
TZNAME:CEST
DTSTART:20210328T010000
END:DAYLIGHT
BEGIN:STANDARD
TZOFFSETFROM:+0200
TZOFFSETTO:+0100
TZNAME:CET
DTSTART:20211031T010000
END:STANDARD
BEGIN:DAYLIGHT
TZOFFSETFROM:+0100
TZOFFSETTO:+0200
TZNAME:CEST
DTSTART:20220327T010000
END:DAYLIGHT
BEGIN:STANDARD
TZOFFSETFROM:+0200
TZOFFSETTO:+0100
TZNAME:CET
DTSTART:20221030T010000
END:STANDARD
END:VTIMEZONE
BEGIN:VEVENT
DTSTART;TZID=Europe/Paris:20211208T193000
DTEND;TZID=Europe/Paris:20211208T230000
DTSTAMP:20260426T033059
CREATED:20211029T181648Z
LAST-MODIFIED:20211214T173054Z
UID:3144-1638991800-1639004400@club-entrepreneurs-jouy.fr
SUMMARY:Soirée Place de Marché du Club
DESCRIPTION:Cette soirée a été consacrée à une réflexion sur l’opportunité de créer une Place de Marché pour notre Club des Entrepreneurs. \nEn introduction\, ont été rappelé les valeurs et les engagements partagés par les membres du Club\, notre Charte DD-RSE\, le classement par secteurs d’activités et les synergies apportées par nos trois pôles métiers (RH\, DD-RSE et Startup & Développement). \nBruno Delacour (Axa Prévoyance et Patrimoine)\, administrateur du Club et Damien Ratto (Darwin Conseil) ont ensuite présenté une première esquisse d’un projet de Place de Marché du Club dont l’objectif serait d’assurer un meilleur référencement des membres au sein du territoire. \nLes nombreux échanges ont été fructueux et ont montré que cette nouvelle  approche devait avant tout reposer sur la confiance entre les membres. Si elle est très établie entre plusieurs d’entre eux à travers des actions communes notamment via les pôles\, la confiance doit encore être améliorée et partagée entre tous. \nPlusieurs pistes ont été proposées comme le montre le schéma ci-dessous. \n \nDes groupes de travail seront mis sur pied pour aller plus avant dans ce projet transverse marketing et commercial.
URL:https://club-entrepreneurs-jouy.fr/evenement/soiree-club-8-decembre/
LOCATION:Golf de la Boulie\, Rue du Pont Colbert\, Jouy-en-Josas\, 78350\, France
CATEGORIES:soirée participative
END:VEVENT
END:VCALENDAR