BEGIN:VCALENDAR
VERSION:2.0
PRODID:-//Club des Entrepreneurs de Jouy-en-Josas - ECPv6.15.20//NONSGML v1.0//EN
CALSCALE:GREGORIAN
METHOD:PUBLISH
X-ORIGINAL-URL:https://club-entrepreneurs-jouy.fr
X-WR-CALDESC:Évènements pour Club des Entrepreneurs de Jouy-en-Josas
REFRESH-INTERVAL;VALUE=DURATION:PT1H
X-Robots-Tag:noindex
X-PUBLISHED-TTL:PT1H
BEGIN:VTIMEZONE
TZID:Europe/Paris
BEGIN:DAYLIGHT
TZOFFSETFROM:+0100
TZOFFSETTO:+0200
TZNAME:CEST
DTSTART:20240331T010000
END:DAYLIGHT
BEGIN:STANDARD
TZOFFSETFROM:+0200
TZOFFSETTO:+0100
TZNAME:CET
DTSTART:20241027T010000
END:STANDARD
BEGIN:DAYLIGHT
TZOFFSETFROM:+0100
TZOFFSETTO:+0200
TZNAME:CEST
DTSTART:20250330T010000
END:DAYLIGHT
BEGIN:STANDARD
TZOFFSETFROM:+0200
TZOFFSETTO:+0100
TZNAME:CET
DTSTART:20251026T010000
END:STANDARD
BEGIN:DAYLIGHT
TZOFFSETFROM:+0100
TZOFFSETTO:+0200
TZNAME:CEST
DTSTART:20260329T010000
END:DAYLIGHT
BEGIN:STANDARD
TZOFFSETFROM:+0200
TZOFFSETTO:+0100
TZNAME:CET
DTSTART:20261025T010000
END:STANDARD
END:VTIMEZONE
BEGIN:VEVENT
DTSTART;TZID=Europe/Paris:20250527T180000
DTEND;TZID=Europe/Paris:20250527T180000
DTSTAMP:20260422T061448
CREATED:20250409T152907Z
LAST-MODIFIED:20250603T175512Z
UID:5847-1748368800-1748368800@club-entrepreneurs-jouy.fr
SUMMARY:Atelier la cybersécurité pour tous
DESCRIPTION:Le 27 mai s’est tenu à la Maison des Entreprises de VGP un atelier du CLub ds Entrepreneurs consacré au sujet incontournable de la cybersécurité y compris pour les petites entreprises. \nBenjamin Kitler (Alenatec)\, membre du Club\, spécialiste en cybersécurité\, nous a dévoilé les stratégies essentielles pour protéger efficacement notre activité numérique et nos données sensibles. Il nous a présenté quelques bonnes pratiques pour mettre en œuvre des mesures préventives concrètes pour gérer au mieux les risques cyber. \nEn complément de cette présentation Patrick Germain (Webadmin.fr)\, membre du Club a fait une présentation sur la Sécurisation de votre site internet\, voir sa présentation : Sécurisation de votre site.
URL:https://club-entrepreneurs-jouy.fr/evenement/atelier-cybersecurite-et-tpe/
LOCATION:Maison des Entreprises VGP\, 2 place de Touraine\, Versailles\, 78000\, France
CATEGORIES:atelier
ATTACH;FMTTYPE=image/jpeg:https://club-entrepreneurs-jouy.fr/wordpress/wp-content/uploads/2025/02/csm_pepiniere_entreprises_a12527bf61-1.jpg
END:VEVENT
END:VCALENDAR