BEGIN:VCALENDAR
VERSION:2.0
PRODID:-//Club des Entrepreneurs de Jouy-en-Josas - ECPv6.15.20//NONSGML v1.0//EN
CALSCALE:GREGORIAN
METHOD:PUBLISH
X-WR-CALNAME:Club des Entrepreneurs de Jouy-en-Josas
X-ORIGINAL-URL:https://club-entrepreneurs-jouy.fr
X-WR-CALDESC:Évènements pour Club des Entrepreneurs de Jouy-en-Josas
REFRESH-INTERVAL;VALUE=DURATION:PT1H
X-Robots-Tag:noindex
X-PUBLISHED-TTL:PT1H
BEGIN:VTIMEZONE
TZID:Europe/Paris
BEGIN:DAYLIGHT
TZOFFSETFROM:+0100
TZOFFSETTO:+0200
TZNAME:CEST
DTSTART:20210328T010000
END:DAYLIGHT
BEGIN:STANDARD
TZOFFSETFROM:+0200
TZOFFSETTO:+0100
TZNAME:CET
DTSTART:20211031T010000
END:STANDARD
BEGIN:DAYLIGHT
TZOFFSETFROM:+0100
TZOFFSETTO:+0200
TZNAME:CEST
DTSTART:20220327T010000
END:DAYLIGHT
BEGIN:STANDARD
TZOFFSETFROM:+0200
TZOFFSETTO:+0100
TZNAME:CET
DTSTART:20221030T010000
END:STANDARD
BEGIN:DAYLIGHT
TZOFFSETFROM:+0100
TZOFFSETTO:+0200
TZNAME:CEST
DTSTART:20230326T010000
END:DAYLIGHT
BEGIN:STANDARD
TZOFFSETFROM:+0200
TZOFFSETTO:+0100
TZNAME:CET
DTSTART:20231029T010000
END:STANDARD
END:VTIMEZONE
BEGIN:VEVENT
DTSTART;TZID=Europe/Paris:20221122T183000
DTEND;TZID=Europe/Paris:20221122T193000
DTSTAMP:20260426T051344
CREATED:20221102T231714Z
LAST-MODIFIED:20221123T183909Z
UID:4074-1669141800-1669145400@club-entrepreneurs-jouy.fr
SUMMARY:Atelier Tout savoir sur la facture électronique
DESCRIPTION:L’Atelier du Mardi du Club des Entrepreneurs organisé par son pôle Startup & Développement a été consacré le 22 novembre à la facture électronique. \nIntervenant : Stéphane Gosselin (Baker Tilly)\, expert-comptable\, membre du Club. \nAujourd’hui deux entreprises sur trois des entreprises soumises à la TVA ne respectent pas la norme 525 en vigueur depuis  2018 qui nécessite d’avoir recours à un logiciel de facturation (inaltérabilité\, sécurisation des données\, traçabilité…). \nC’est dire les efforts que les entreprises vont devoir déployer avec la facture électronique qui est déjà obligatoire pour toutes les entreprises dans leurs échanges avec l’Etat et les Collectivités depuis le 1er janvier 2020. \nCette obligation s’étendra de façon progressive à compter du 1er janvier 2024 et jusqu’au 1er janvier 2026 pour tous les échanges inter-entreprises. \nLes entreprises\, quelle que soit leur taille\, vont devoir s’adapter au nouvel écosystème qui va se mettre en place avec un portail public de facturation (PPF) et des plateformes de dématérialisation partenaires  (PDP). Beaucoup de changements sont à venir…
URL:https://club-entrepreneurs-jouy.fr/evenement/atelier-webinaire-sur-la-facture-electronique/
LOCATION:Webinaire\, France
CATEGORIES:atelier
ATTACH;FMTTYPE=image/jpeg:https://club-entrepreneurs-jouy.fr/wordpress/wp-content/uploads/2022/11/1666698889158.jpeg
END:VEVENT
END:VCALENDAR